BEGIN:VCALENDAR
PRODID:-//AT Content Types//AT Event//EN
VERSION:2.0
METHOD:PUBLISH
BEGIN:VEVENT
DTSTAMP:20260426T032611Z
CREATED:20230202T151611Z
UID:ATEvent-088b5ece89a54826a56fa9aac158c404
LAST-MODIFIED:20230206T133215Z
SUMMARY:Early years providers PVI\, nursery class\, reception schools focus group
DTSTART:20230309T100000Z
DTEND:20230309T113000Z
DESCRIPTION:Location: Romsey Close Children’s Centre\nRomsey Close\,
  Sl3 8PE
CLASS:PUBLIC
END:VEVENT
END:VCALENDAR
