BEGIN:VCALENDAR
PRODID:-//AT Content Types//AT Event//EN
VERSION:2.0
METHOD:PUBLISH
BEGIN:VEVENT
DTSTAMP:20260426T032714Z
CREATED:20230202T151612Z
UID:ATEvent-04296b63a3874d24956a307bbd1dd249
LAST-MODIFIED:20230206T133215Z
SUMMARY:Key health and wellbeing partners focus group
DTSTART:20230221T100000Z
DTEND:20230221T113000Z
DESCRIPTION:Location: Chalvey Grove Children’s Centre\nMontem School
 \, Chalvey Grove\, SL1 2TE
CLASS:PUBLIC
END:VEVENT
END:VCALENDAR
