BEGIN:VCALENDAR
PRODID:-//AT Content Types//AT Event//EN
VERSION:2.0
METHOD:PUBLISH
BEGIN:VEVENT
DTSTAMP:20260426T032443Z
CREATED:20230202T151612Z
UID:ATEvent-5cd60c634ee9426fba28313f6761addc
LAST-MODIFIED:20230206T133215Z
SUMMARY:Key schools partners focus group
DTSTART:20230220T093000Z
DTEND:20230220T110000Z
DESCRIPTION:Location: Online - Teams
CLASS:PUBLIC
END:VEVENT
END:VCALENDAR
