BEGIN:VCALENDAR
PRODID:-//AT Content Types//AT Event//EN
VERSION:2.0
METHOD:PUBLISH
BEGIN:VEVENT
DTSTAMP:20260426T032611Z
CREATED:20230202T151612Z
UID:ATEvent-dde19da28b8a48dfaf4f264060c2888e
LAST-MODIFIED:20230206T133215Z
SUMMARY:Private and independent sector early years providers focus group
DTSTART:20230206T183000Z
DTEND:20230206T200000Z
DESCRIPTION:Location: Online - Teams
CLASS:PUBLIC
END:VEVENT
END:VCALENDAR
