BEGIN:VCALENDAR
PRODID:-//AT Content Types//AT Event//EN
VERSION:2.0
METHOD:PUBLISH
BEGIN:VEVENT
DTSTAMP:20260426T032602Z
CREATED:20230202T151612Z
UID:ATEvent-a634757bea6f461fa57934adbbff41b4
LAST-MODIFIED:20230206T133215Z
SUMMARY:Service users and residents focus group
DTSTART:20230209T100000Z
DTEND:20230209T113000Z
DESCRIPTION:Location: Penn Road Children’s Centre\nPenn Wood School\
 , Penn Road\, SL2 1PG
CLASS:PUBLIC
END:VEVENT
END:VCALENDAR
