BEGIN:VCALENDAR
PRODID:-//AT Content Types//AT Event//EN
VERSION:2.0
METHOD:PUBLISH
BEGIN:VEVENT
DTSTAMP:20260426T032443Z
CREATED:20230202T151612Z
UID:ATEvent-e73123d577d14b5ba787d0a2a0faa930
LAST-MODIFIED:20230206T133215Z
SUMMARY:Service users and residents focus group
DTSTART:20230306T120000Z
DTEND:20230306T140000Z
DESCRIPTION:Location: Vicarage Way Children’s Centre\nVicarage Way\,
  Colnbrook\, SL3 0JY
CLASS:PUBLIC
END:VEVENT
END:VCALENDAR
