BEGIN:VCALENDAR
PRODID:-//AT Content Types//AT Event//EN
VERSION:2.0
METHOD:PUBLISH
BEGIN:VEVENT
DTSTAMP:20260426T032431Z
CREATED:20230202T151612Z
UID:ATEvent-dc7ef7adc3074585b5eda430b36bedb6
LAST-MODIFIED:20230206T133215Z
SUMMARY:Service users and residents focus group
DTSTART:20230315T160000Z
DTEND:20230315T180000Z
DESCRIPTION:Location: Yew Tree Road Children’s Centre\nSt Marys Scho
 ol\, Yew Tree Road\, SL1 2AR
CLASS:PUBLIC
END:VEVENT
END:VCALENDAR
