BEGIN:VCALENDAR
PRODID:-//AT Content Types//AT Event//EN
VERSION:2.0
METHOD:PUBLISH
BEGIN:VEVENT
DTSTAMP:20260426T032714Z
CREATED:20230202T151611Z
UID:ATEvent-87d01bc8507b4858a112f6481391192a
LAST-MODIFIED:20230206T133215Z
SUMMARY:Voluntary sector partners and adult learning focus group
DTSTART:20230301T100000Z
DTEND:20230301T113000Z
DESCRIPTION:Location: Monksfield Way Children’s Centre\nMonksfield W
 ay\, Britwell\, SL2 1QX
CLASS:PUBLIC
END:VEVENT
END:VCALENDAR
