BEGIN:VCALENDAR
PRODID:-//AT Content Types//AT Event//EN
VERSION:2.0
METHOD:PUBLISH
BEGIN:VEVENT
DTSTAMP:20260426T031532Z
CREATED:20230802T095345Z
UID:ATEvent-31af1673de644b499bbb976e5ed71bfc
LAST-MODIFIED:20230804T084232Z
SUMMARY:Resident Engagement Strategy Drop In Session at The Curve
DTSTART:20230815T090000Z
DTEND:20230815T110000Z
DESCRIPTION:Come along and share your views on how you want us to invo
 lve you\, to improve housing services we deliver.  \n\nLight refreshme
 nts provided
CLASS:PUBLIC
END:VEVENT
END:VCALENDAR
