BEGIN:VCALENDAR
PRODID:-//AT Content Types//AT Event//EN
VERSION:2.0
METHOD:PUBLISH
BEGIN:VEVENT
DTSTAMP:20260426T031649Z
CREATED:20230802T095345Z
UID:ATEvent-a9131aeda6c04b4fb459ad3cb69dfc85
LAST-MODIFIED:20230804T084232Z
SUMMARY:Resident Engagement Strategy Drop In Session at Britwell Hub
DTSTART:20230815T130000Z
DTEND:20230815T153000Z
DESCRIPTION:Come along and share your views on how you want us to invo
 lve you\, to improve housing services we deliver.  \n\nLight refreshme
 nts provided!
CLASS:PUBLIC
END:VEVENT
END:VCALENDAR
