BEGIN:VCALENDAR
PRODID:-//AT Content Types//AT Event//EN
VERSION:2.0
METHOD:PUBLISH
BEGIN:VEVENT
DTSTAMP:20260426T031705Z
CREATED:20230802T095345Z
UID:ATEvent-4fa0ec31de244b4f90ba73c613150995
LAST-MODIFIED:20230804T084232Z
SUMMARY:Resident Engagement Strategy Drop In Session at Langley Library
DTSTART:20230807T140000Z
DTEND:20230807T160000Z
DESCRIPTION:Come along and share your views on how you want us to invo
 lve you\, to improve housing services we deliver.
CLASS:PUBLIC
END:VEVENT
END:VCALENDAR
