BEGIN:VCALENDAR
PRODID:-//AT Content Types//AT Event//EN
VERSION:2.0
METHOD:PUBLISH
BEGIN:VEVENT
DTSTAMP:20260426T031706Z
CREATED:20230802T095345Z
UID:ATEvent-3fe0acfbd2b24989bfcc17499c08ada7
LAST-MODIFIED:20230804T084232Z
SUMMARY:Resident Engagement Strategy Drop In Session at Chalvey Community Hub
DTSTART:20230809T090000Z
DTEND:20230809T113000Z
DESCRIPTION:Come along and share your views on how you want us to invo
 lve you\, to improve housing services we deliver.  \n\nLight refreshme
 nts provided
CLASS:PUBLIC
END:VEVENT
END:VCALENDAR
