BEGIN:VCALENDAR
PRODID:-//AT Content Types//AT Event//EN
VERSION:2.0
METHOD:PUBLISH
BEGIN:VEVENT
DTSTAMP:20260426T032431Z
CREATED:20220622T172715Z
UID:ATEvent-f5207169bfa84644a756a4ce4c95feb0
LAST-MODIFIED:20220629T134430Z
SUMMARY:Event Date
DTSTART:20220707T100000Z
DTEND:20220707T120000Z
DESCRIPTION:7th July 2022	Chalvey Hub\, Ladbroke Road\, Chalvey\, SL1 
 2SP	11:00am – 1:00pm
CLASS:PUBLIC
END:VEVENT
END:VCALENDAR
