BEGIN:VCALENDAR
PRODID:-//AT Content Types//AT Event//EN
VERSION:2.0
METHOD:PUBLISH
BEGIN:VEVENT
DTSTAMP:20260426T032426Z
CREATED:20220622T172715Z
UID:ATEvent-25b475fe44534dbd90e0b1de8470adf0
LAST-MODIFIED:20220629T134430Z
SUMMARY:Event Date
DTSTART:20220707T180000Z
DTEND:20220707T200000Z
DESCRIPTION:7th July 2022	Chalvey Hub\, Ladbroke Road\, Chalvey\, SL1 
 2SP	7:00pm – 9:00pm
CLASS:PUBLIC
END:VEVENT
END:VCALENDAR
