BEGIN:VCALENDAR
PRODID:-//AT Content Types//AT Event//EN
VERSION:2.0
METHOD:PUBLISH
BEGIN:VEVENT
DTSTAMP:20260426T032554Z
CREATED:20220622T172715Z
UID:ATEvent-d097d9c26447423590efcc37ec7ae907
LAST-MODIFIED:20220629T134430Z
SUMMARY:Event Date
DTSTART:20220627T113000Z
DTEND:20220627T133000Z
DESCRIPTION:27th June 2022	The Curve\, William Street\, Slough SL1 1XY
 	12:30pm – 2:30pm
CLASS:PUBLIC
END:VEVENT
END:VCALENDAR
