BEGIN:VCALENDAR
PRODID:-//AT Content Types//AT Event//EN
VERSION:2.0
METHOD:PUBLISH
BEGIN:VEVENT
DTSTAMP:20260426T032309Z
CREATED:20220622T172715Z
UID:ATEvent-be3e9beffd014c809ff0503f88bce1fa
LAST-MODIFIED:20220629T134430Z
SUMMARY:Event Date
DTSTART:20220704T113000Z
DTEND:20220704T133000Z
DESCRIPTION:4th July 2022	Romsey Close Children/s Centre\, Marish Prim
 ary School\, Romsey Close\, Langley SL3 8PE	12:30pm – 2:30pm
CLASS:PUBLIC
END:VEVENT
END:VCALENDAR
