BEGIN:VCALENDAR
PRODID:-//AT Content Types//AT Event//EN
VERSION:2.0
METHOD:PUBLISH
BEGIN:VEVENT
DTSTAMP:20260426T032554Z
CREATED:20220622T132124Z
UID:ATEvent-f7e44e28a1fb47c68e211216d85223f5
LAST-MODIFIED:20220629T134430Z
SUMMARY:Event Date
DTSTART:20220627T090000Z
DTEND:20220627T110000Z
DESCRIPTION:27th June 2022	The Curve\, William Street\, Slough SL1 1XY
 	10:00am – 12:00pm
CLASS:PUBLIC
END:VEVENT
END:VCALENDAR
